BEGIN:VCALENDAR
VERSION:2.0
PRODID:icalendar-ruby
CALSCALE:GREGORIAN
METHOD:PUBLISH
BEGIN:VTIMEZONE
TZID:Europe/Oslo
BEGIN:DAYLIGHT
DTSTART:20270328T030000
TZOFFSETFROM:+0100
TZOFFSETTO:+0200
RRULE:FREQ=YEARLY;BYDAY=-1SU;BYMONTH=3
TZNAME:CEST
END:DAYLIGHT
BEGIN:STANDARD
DTSTART:20261025T020000
TZOFFSETFROM:+0200
TZOFFSETTO:+0100
RRULE:FREQ=YEARLY;BYDAY=-1SU;BYMONTH=10
TZNAME:CET
END:STANDARD
END:VTIMEZONE
BEGIN:VEVENT
DTSTAMP:20260420T203804Z
UID:1111503
DTSTART;TZID=Europe/Oslo:20261120T190000
DTEND;TZID=Europe/Oslo:20261120T203000
LOCATION:Kampen Kirke
SEQUENCE:1776683268
SUMMARY:Jazz på Kampen: Little North featuring Reinier Baas & Hannes Benni
 ch
END:VEVENT
END:VCALENDAR
